BEGIN:VCALENDAR
VERSION:2.0
PRODID:-//hacksw/handcal//NONSGML v1.0//EN
CALSCALE:GREGORIAN
BEGIN:VEVENT
LOCATION:Barcelona
DESCRIPTION:
DTSTART:20191209T173000Z
DTEND:20191209T173000Z
SUMMARY:"Diseccionando la realidad": Diàleg entre Open Arms i Arquitectes de Capçalera
URL;VALUE=URI:https://arquitectes.cat/ca/content/diseccionando-la-realidad-di%C3%A0leg-entre-open-arms-i-arquitectes-de-cap%C3%A7alera
DTSTAMP:20260423T003016Z
UID:69e94bf877373
END:VEVENT
END:VCALENDAR