BEGIN:VCALENDAR
VERSION:2.0
PRODID:-//hacksw/handcal//NONSGML v1.0//EN
CALSCALE:GREGORIAN
BEGIN:VEVENT
LOCATION:Terrassa
DESCRIPTION:
DTSTART:20191204T093000Z
DTEND:20200124T180000Z
SUMMARY:Exposición: "Pasado Industrial. Espacios del olvido"
URL;VALUE=URI:https://arquitectes.cat/ca/node/33158
DTSTAMP:20260420T033607Z
UID:69e58307a4281
END:VEVENT
END:VCALENDAR