BEGIN:VCALENDAR
VERSION:2.0
PRODID:-//hacksw/handcal//NONSGML v1.0//EN
CALSCALE:GREGORIAN
BEGIN:VEVENT
LOCATION:Barcelona
DESCRIPTION:
DTSTART:20191212T173000Z
DTEND:20191212T173000Z
SUMMARY:Espacio Íntimo\, Espacio Público: ''Lugares como nosotros''
URL;VALUE=URI:https://arquitectes.cat/ca/node/33148
DTSTAMP:20260419T180600Z
UID:69e4fd6844fb7
END:VEVENT
END:VCALENDAR