BEGIN:VCALENDAR
VERSION:2.0
PRODID:-//hacksw/handcal//NONSGML v1.0//EN
CALSCALE:GREGORIAN
BEGIN:VEVENT
LOCATION:Barcelona
DESCRIPTION:
DTSTART:20191209T153000Z
DTEND:20191211T173000Z
SUMMARY:Mies van der Rohe. Tres mirades als 50 anys d’un llegat que perdura
URL;VALUE=URI:https://arquitectes.cat/ca/content/mies-van-der-rohe-tres-mirades-als-50-anys-d%E2%80%99un-llegat-que-perdura
DTSTAMP:20260419T150020Z
UID:69e4d1e47e332
END:VEVENT
END:VCALENDAR