BEGIN:VCALENDAR
VERSION:2.0
PRODID:-//hacksw/handcal//NONSGML v1.0//EN
CALSCALE:GREGORIAN
BEGIN:VEVENT
LOCATION:Barcelona
DESCRIPTION:
DTSTART:20191209T093000Z
DTEND:20191209T093000Z
SUMMARY:Charla de Tomás López Amat
URL;VALUE=URI:https://arquitectes.cat/ca/node/33142
DTSTAMP:20260424T055611Z
UID:69eae9db4d6fd
END:VEVENT
END:VCALENDAR