BEGIN:VCALENDAR
VERSION:2.0
PRODID:-//hacksw/handcal//NONSGML v1.0//EN
CALSCALE:GREGORIAN
BEGIN:VEVENT
LOCATION:Barcelona
DESCRIPTION:
DTSTART:20191209T093000Z
DTEND:20191209T093000Z
SUMMARY:Xerrada de Tomás López Amat. Cicle "Projectar Espais 2019-2020"
URL;VALUE=URI:https://arquitectes.cat/ca/content/xerrada-de-tom%C3%A1s-l%C3%B3pez-amat-cicle-projectar-espais-2019-2020
DTSTAMP:20260419T180829Z
UID:69e4fdfd27349
END:VEVENT
END:VCALENDAR