BEGIN:VCALENDAR
VERSION:2.0
PRODID:-//hacksw/handcal//NONSGML v1.0//EN
CALSCALE:GREGORIAN
BEGIN:VEVENT
LOCATION:Barcelona
DESCRIPTION:
DTSTART:20191212T170000Z
DTEND:20191212T170000Z
SUMMARY:Conferencia: La ciudad hostil
URL;VALUE=URI:https://arquitectes.cat/ca/node/33129
DTSTAMP:20260425T161206Z
UID:69eccbb646e27
END:VEVENT
END:VCALENDAR