BEGIN:VCALENDAR
VERSION:2.0
PRODID:-//hacksw/handcal//NONSGML v1.0//EN
CALSCALE:GREGORIAN
BEGIN:VEVENT
LOCATION:Barcelona
DESCRIPTION:
DTSTART:20191204T103000Z
DTEND:20191204T103000Z
SUMMARY:Conferencia de La Col: "Infraestructura de vida sostenible"
URL;VALUE=URI:https://arquitectes.cat/ca/node/33110
DTSTAMP:20260419T194043Z
UID:69e5139b1a2b2
END:VEVENT
END:VCALENDAR