BEGIN:VCALENDAR
VERSION:2.0
PRODID:-//hacksw/handcal//NONSGML v1.0//EN
CALSCALE:GREGORIAN
BEGIN:VEVENT
LOCATION:Barcelona
DESCRIPTION:
DTSTART:20191116T080000Z
DTEND:20191124T160000Z
SUMMARY:Intervenció "Kasta Macka" al Pavelló Mies van der Rohe\, en el marc del Festival Loop
URL;VALUE=URI:https://arquitectes.cat/ca/content/intervenci%C3%B3-kasta-macka-al-pavell%C3%B3-mies-van-der-rohe-en-el-marc-del-festival-loop
DTSTAMP:20260419T183218Z
UID:69e5039280d4a
END:VEVENT
END:VCALENDAR