BEGIN:VCALENDAR
VERSION:2.0
PRODID:-//hacksw/handcal//NONSGML v1.0//EN
CALSCALE:GREGORIAN
BEGIN:VEVENT
LOCATION:Barcelona
DESCRIPTION:
DTSTART:20191130T080000Z
DTEND:20191130T080000Z
SUMMARY:Pedalada: La portada d'aigua a Barcelona des del Riu Besòs. El Rec Comtal
URL;VALUE=URI:https://arquitectes.cat/ca/content/pedalada-la-portada-daigua-barcelona-des-del-riu-bes%C3%B2s-el-rec-comtal
DTSTAMP:20260419T150440Z
UID:69e4d2e82597c
END:VEVENT
END:VCALENDAR