BEGIN:VCALENDAR
VERSION:2.0
PRODID:-//hacksw/handcal//NONSGML v1.0//EN
CALSCALE:GREGORIAN
BEGIN:VEVENT
LOCATION:Barcelona
DESCRIPTION:
DTSTART:20191203T170000Z
DTEND:20191203T170000Z
SUMMARY:Arquitectura en corto: Grenfell
URL;VALUE=URI:https://arquitectes.cat/ca/node/32955
DTSTAMP:20260419T215737Z
UID:69e533b1145e6
END:VEVENT
END:VCALENDAR