BEGIN:VCALENDAR
VERSION:2.0
PRODID:-//hacksw/handcal//NONSGML v1.0//EN
CALSCALE:GREGORIAN
BEGIN:VEVENT
LOCATION:
DESCRIPTION:
DTSTART:20191123T070000Z
DTEND:20191123T070000Z
SUMMARY:Visita a les obres del Baix Empordà i el Gironès. Premis d'Arquitectura de les Comarques de Girona 2019
URL;VALUE=URI:https://arquitectes.cat/ca/content/visita-les-obres-del-baix-empord%C3%A0-i-el-giron%C3%A8s-premis-darquitectura-de-les-comarques-de
DTSTAMP:20260425T162041Z
UID:69eccdb9ee910
END:VEVENT
END:VCALENDAR