BEGIN:VCALENDAR
VERSION:2.0
PRODID:-//hacksw/handcal//NONSGML v1.0//EN
CALSCALE:GREGORIAN
BEGIN:VEVENT
LOCATION:Manresa
DESCRIPTION:
DTSTART:20191116T070000Z
DTEND:20191116T070000Z
SUMMARY:Arquitectour Comarques Centrals - L'Ametlla de Merola i la Colònia Pons (Puig-reig)
URL;VALUE=URI:https://arquitectes.cat/ca/content/arquitectour-comarques-centrals-lametlla-de-merola-i-la-col%C3%B2nia-pons-puig-reig
DTSTAMP:20260419T184001Z
UID:69e50561ac6a9
END:VEVENT
END:VCALENDAR