BEGIN:VCALENDAR
VERSION:2.0
PRODID:-//hacksw/handcal//NONSGML v1.0//EN
CALSCALE:GREGORIAN
BEGIN:VEVENT
LOCATION:Barcelona
DESCRIPTION:
DTSTART:20191114T100000Z
DTEND:20191114T100000Z
SUMMARY:JORNADA: Smart cities - Smart architects
URL;VALUE=URI:https://arquitectes.cat/ca/content/jornada-smart-cities-smart-architects
DTSTAMP:20260426T051316Z
UID:69ed82cc55d00
END:VEVENT
END:VCALENDAR