BEGIN:VCALENDAR
VERSION:2.0
PRODID:-//hacksw/handcal//NONSGML v1.0//EN
CALSCALE:GREGORIAN
BEGIN:VEVENT
LOCATION:Barcelona
DESCRIPTION:
DTSTART:20191212T153000Z
DTEND:20191215T140000Z
SUMMARY:XLII Curset de Patrimoni de l'AADIPA
URL;VALUE=URI:https://arquitectes.cat/ca/content/xlii-curset-de-patrimoni-de-laadipa
DTSTAMP:20260426T023011Z
UID:69ed5c932c99e
END:VEVENT
END:VCALENDAR