BEGIN:VCALENDAR
VERSION:2.0
PRODID:-//hacksw/handcal//NONSGML v1.0//EN
CALSCALE:GREGORIAN
BEGIN:VEVENT
LOCATION:Barcelona
DESCRIPTION:
DTSTART:20191026T080000Z
DTEND:20200223T130000Z
SUMMARY:Exposició: Art sonor?
URL;VALUE=URI:https://arquitectes.cat/ca/content/exposici%C3%B3-art-sonor
DTSTAMP:20260422T190814Z
UID:69e9007eba0a8
END:VEVENT
END:VCALENDAR