BEGIN:VCALENDAR
VERSION:2.0
PRODID:-//hacksw/handcal//NONSGML v1.0//EN
CALSCALE:GREGORIAN
BEGIN:VEVENT
LOCATION:Barcelona
DESCRIPTION:
DTSTART:20191119T180000Z
DTEND:20191119T180000Z
SUMMARY:Presentació del llibre "La casa de Ozu"
URL;VALUE=URI:https://arquitectes.cat/ca/content/presentaci%C3%B3-del-llibre-la-casa-de-ozu
DTSTAMP:20260424T094245Z
UID:69eb1ef537112
END:VEVENT
END:VCALENDAR