BEGIN:VCALENDAR
VERSION:2.0
PRODID:-//hacksw/handcal//NONSGML v1.0//EN
CALSCALE:GREGORIAN
BEGIN:VEVENT
LOCATION:Barcelona
DESCRIPTION:
DTSTART:20191104T170000Z
DTEND:20191209T180000Z
SUMMARY:Exposició al COAC: "50 anys d'arquitectura. 1969-2019"
URL;VALUE=URI:https://arquitectes.cat/ca/content/exposici%C3%B3-al-coac-50-anys-darquitectura-1969-2019
DTSTAMP:20260420T072027Z
UID:69e5b79b9ce3b
END:VEVENT
END:VCALENDAR