BEGIN:VCALENDAR
VERSION:2.0
PRODID:-//hacksw/handcal//NONSGML v1.0//EN
CALSCALE:GREGORIAN
BEGIN:VEVENT
LOCATION:Barcelona
DESCRIPTION:
DTSTART:20191112T080000Z
DTEND:20191123T200000Z
SUMMARY:"Ciutats impossibles" a la Sagrera
URL;VALUE=URI:https://arquitectes.cat/ca/content/ciutats-impossibles-la-sagrera
DTSTAMP:20260420T033844Z
UID:69e583a4a334e
END:VEVENT
END:VCALENDAR