BEGIN:VCALENDAR
VERSION:2.0
PRODID:-//hacksw/handcal//NONSGML v1.0//EN
CALSCALE:GREGORIAN
BEGIN:VEVENT
LOCATION:
DESCRIPTION:
DTSTART:20191115T220000Z
DTEND:20191130T220000Z
SUMMARY:El temps retorna - 500 anys del Renaixement a la Catalunya Nova. Orta - Arnes
URL;VALUE=URI:https://arquitectes.cat/ca/content/el-temps-retorna-500-anys-del-renaixement-la-catalunya-nova-orta-arnes
DTSTAMP:20260426T053708Z
UID:69ed88646be2f
END:VEVENT
END:VCALENDAR