BEGIN:VCALENDAR
VERSION:2.0
PRODID:-//hacksw/handcal//NONSGML v1.0//EN
CALSCALE:GREGORIAN
BEGIN:VEVENT
LOCATION:Girona
DESCRIPTION:
DTSTART:20191114T173000Z
DTEND:20200126T143000Z
SUMMARY:Exposició "Lina Bo Bardi a Bahia"
URL;VALUE=URI:https://arquitectes.cat/ca/content/exposici%C3%B3-lina-bo-bardi-bahia-1
DTSTAMP:20260419T164003Z
UID:69e4e94331756
END:VEVENT
END:VCALENDAR