BEGIN:VCALENDAR
VERSION:2.0
PRODID:-//hacksw/handcal//NONSGML v1.0//EN
CALSCALE:GREGORIAN
BEGIN:VEVENT
LOCATION:Barcelona
DESCRIPTION:
DTSTART:20191104T093000Z
DTEND:20191104T093000Z
SUMMARY:Conferencia de los arquitectos/diseñadores Bonell+Dòriga
URL;VALUE=URI:https://arquitectes.cat/ca/node/32704
DTSTAMP:20260419T200228Z
UID:69e518b4e327c
END:VEVENT
END:VCALENDAR