BEGIN:VCALENDAR
VERSION:2.0
PRODID:-//hacksw/handcal//NONSGML v1.0//EN
CALSCALE:GREGORIAN
BEGIN:VEVENT
LOCATION:Barcelona
DESCRIPTION:
DTSTART:20191104T093000Z
DTEND:20191104T093000Z
SUMMARY:Conferència dels arquitectes/dissenyadors Bonell+Dòriga
URL;VALUE=URI:https://arquitectes.cat/ca/content/confer%C3%A8ncia-dels-arquitectesdissenyadors-bonelld%C3%B2riga
DTSTAMP:20260423T070811Z
UID:69e9a93b093cf
END:VEVENT
END:VCALENDAR