BEGIN:VCALENDAR
VERSION:2.0
PRODID:-//hacksw/handcal//NONSGML v1.0//EN
CALSCALE:GREGORIAN
BEGIN:VEVENT
LOCATION:Barcelona
DESCRIPTION:
DTSTART:20191019T080000Z
DTEND:20191019T080000Z
SUMMARY:Dones Arquitectes a la Viquipèdia: 10 anys\, 10 dones
URL;VALUE=URI:https://arquitectes.cat/ca/content/dones-arquitectes-la-viquip%C3%A8dia-10-anys-10-dones
DTSTAMP:20260422T172733Z
UID:69e8e8e5395f9
END:VEVENT
END:VCALENDAR