BEGIN:VCALENDAR
VERSION:2.0
PRODID:-//hacksw/handcal//NONSGML v1.0//EN
CALSCALE:GREGORIAN
BEGIN:VEVENT
LOCATION:Girona
DESCRIPTION:
DTSTART:20191020T100000Z
DTEND:20191020T100000Z
SUMMARY:Vermut i tertúlia: Construint nous mons
URL;VALUE=URI:https://arquitectes.cat/ca/content/vermut-i-tert%C3%BAlia-construint-nous-mons
DTSTAMP:20260425T040019Z
UID:69ec20336e1a8
END:VEVENT
END:VCALENDAR