BEGIN:VCALENDAR
VERSION:2.0
PRODID:-//hacksw/handcal//NONSGML v1.0//EN
CALSCALE:GREGORIAN
BEGIN:VEVENT
LOCATION:Barcelona
DESCRIPTION:
DTSTART:20191031T170000Z
DTEND:20191128T190000Z
SUMMARY:Arqueologia a l’inrevés. Ideologies construïdes
URL;VALUE=URI:https://arquitectes.cat/ca/content/arqueologia-l%E2%80%99inrev%C3%A9s-ideologies-constru%C3%AFdes
DTSTAMP:20260419T163758Z
UID:69e4e8c6dce6c
END:VEVENT
END:VCALENDAR