BEGIN:VCALENDAR
VERSION:2.0
PRODID:-//hacksw/handcal//NONSGML v1.0//EN
CALSCALE:GREGORIAN
BEGIN:VEVENT
LOCATION:Barcelona
DESCRIPTION:
DTSTART:20191108T170000Z
DTEND:20191108T170000Z
SUMMARY:Trobada d'Arquitectes del Garraf-Alt Penedès
URL;VALUE=URI:https://arquitectes.cat/ca/content/trobada-darquitectes-del-garraf-alt-pened%C3%A8s-0
DTSTAMP:20260419T144928Z
UID:69e4cf58cdda0
END:VEVENT
END:VCALENDAR