BEGIN:VCALENDAR
VERSION:2.0
PRODID:-//hacksw/handcal//NONSGML v1.0//EN
CALSCALE:GREGORIAN
BEGIN:VEVENT
LOCATION:Barcelona
DESCRIPTION:
DTSTART:20191025T170000Z
DTEND:20191025T170000Z
SUMMARY:Trobada d'Arquitectes del Besòs
URL;VALUE=URI:https://arquitectes.cat/ca/content/trobada-darquitectes-del-bes%C3%B2s-0
DTSTAMP:20260420T033510Z
UID:69e582ce40c82
END:VEVENT
END:VCALENDAR