BEGIN:VCALENDAR
VERSION:2.0
PRODID:-//hacksw/handcal//NONSGML v1.0//EN
CALSCALE:GREGORIAN
BEGIN:VEVENT
LOCATION:Girona
DESCRIPTION:
DTSTART:20191017T170000Z
DTEND:20191017T170000Z
SUMMARY:Trobades amb... Lyona
URL;VALUE=URI:https://arquitectes.cat/ca/content/trobades-amb-lyona
DTSTAMP:20260426T053818Z
UID:69ed88aa15bfc
END:VEVENT
END:VCALENDAR