BEGIN:VCALENDAR
VERSION:2.0
PRODID:-//hacksw/handcal//NONSGML v1.0//EN
CALSCALE:GREGORIAN
BEGIN:VEVENT
LOCATION:Girona
DESCRIPTION:
DTSTART:20191011T173000Z
DTEND:20191011T173000Z
SUMMARY: Diàleg amb Carles Ferrater\, Joan Maria Viader i Elsa Ibar. "Construir a la mediterrània"
URL;VALUE=URI:https://arquitectes.cat/ca/content/di%C3%A0leg-amb-carles-ferrater-joan-maria-viader-i-elsa-ibar-construir-la-mediterr%C3%A0nia
DTSTAMP:20260420T003611Z
UID:69e558db82228
END:VEVENT
END:VCALENDAR