BEGIN:VCALENDAR
VERSION:2.0
PRODID:-//hacksw/handcal//NONSGML v1.0//EN
CALSCALE:GREGORIAN
BEGIN:VEVENT
LOCATION:Girona
DESCRIPTION:
DTSTART:20191011T173000Z
DTEND:20191011T173000Z
SUMMARY:Diálogo con Carles Ferrater\, Joan Maria Viader y Elsa Ibar. Construir la mediterránea
URL;VALUE=URI:https://arquitectes.cat/ca/node/32595
DTSTAMP:20260419T203447Z
UID:69e52047b2619
END:VEVENT
END:VCALENDAR