BEGIN:VCALENDAR
VERSION:2.0
PRODID:-//hacksw/handcal//NONSGML v1.0//EN
CALSCALE:GREGORIAN
BEGIN:VEVENT
LOCATION:Girona
DESCRIPTION:
DTSTART:20191004T080000Z
DTEND:20200223T180000Z
SUMMARY:Exposició: "Construint Nous Mons 1914-1945\, Les avantguardes històriques a la col·lecció de l'IVAM"
URL;VALUE=URI:https://arquitectes.cat/ca/content/exposici%C3%B3-construint-nous-mons-1914-1945-les-avantguardes-hist%C3%B2riques-la-col%C2%B7lecci%C3%B3-de-livam
DTSTAMP:20260426T040147Z
UID:69ed720b7c32c
END:VEVENT
END:VCALENDAR