BEGIN:VCALENDAR
VERSION:2.0
PRODID:-//hacksw/handcal//NONSGML v1.0//EN
CALSCALE:GREGORIAN
BEGIN:VEVENT
LOCATION:Barcelona
DESCRIPTION:
DTSTART:20191205T170000Z
DTEND:20191205T170000Z
SUMMARY:Trobada d'Arquitectes de l'Eixample
URL;VALUE=URI:https://arquitectes.cat/ca/content/trobada-darquitectes-de-leixample
DTSTAMP:20260426T000246Z
UID:69ed3a061b71e
END:VEVENT
END:VCALENDAR