BEGIN:VCALENDAR
VERSION:2.0
PRODID:-//hacksw/handcal//NONSGML v1.0//EN
CALSCALE:GREGORIAN
BEGIN:VEVENT
LOCATION:Barcelona
DESCRIPTION:
DTSTART:20191009T170000Z
DTEND:20191009T170000Z
SUMMARY:Iniciem el cicle "Travel Retail" amb una sessió sobre Tòquio
URL;VALUE=URI:https://arquitectes.cat/ca/content/iniciem-el-cicle-travel-retail-amb-una-sessi%C3%B3-sobre-t%C3%B2quio
DTSTAMP:20260419T220113Z
UID:69e5348967d5b
END:VEVENT
END:VCALENDAR