BEGIN:VCALENDAR
VERSION:2.0
PRODID:-//hacksw/handcal//NONSGML v1.0//EN
CALSCALE:GREGORIAN
BEGIN:VEVENT
LOCATION:Barcelona
DESCRIPTION:
DTSTART:20191130T070000Z
DTEND:20191130T070000Z
SUMMARY:One Day Design Challenge
URL;VALUE=URI:https://arquitectes.cat/ca/node/32561
DTSTAMP:20260423T204154Z
UID:69ea67f2ce1e1
END:VEVENT
END:VCALENDAR