BEGIN:VCALENDAR
VERSION:2.0
PRODID:-//hacksw/handcal//NONSGML v1.0//EN
CALSCALE:GREGORIAN
BEGIN:VEVENT
LOCATION:Girona
DESCRIPTION:
DTSTART:20191010T173000Z
DTEND:20191010T173000Z
SUMMARY:Conferencia "Relaciones y contexto: unas casas de Cadaqués"
URL;VALUE=URI:https://arquitectes.cat/ca/node/32542
DTSTAMP:20260419T230312Z
UID:69e54310bee13
END:VEVENT
END:VCALENDAR