BEGIN:VCALENDAR
VERSION:2.0
PRODID:-//hacksw/handcal//NONSGML v1.0//EN
CALSCALE:GREGORIAN
BEGIN:VEVENT
LOCATION:Barcelona
DESCRIPTION:
DTSTART:20191028T170000Z
DTEND:20191028T170000Z
SUMMARY:Trobada d'Arquitectes de Sant Martí
URL;VALUE=URI:https://arquitectes.cat/ca/content/trobada-darquitectes-de-sant-mart%C3%AD-2
DTSTAMP:20260419T190147Z
UID:69e50a7bb4bea
END:VEVENT
END:VCALENDAR