BEGIN:VCALENDAR
VERSION:2.0
PRODID:-//hacksw/handcal//NONSGML v1.0//EN
CALSCALE:GREGORIAN
BEGIN:VEVENT
LOCATION:Vic
DESCRIPTION:
DTSTART:20190926T170000Z
DTEND:20190926T170000Z
SUMMARY:Entrega de premios del 4º Concurso fotográfico COAC-CC
URL;VALUE=URI:https://arquitectes.cat/ca/node/32514
DTSTAMP:20260419T152159Z
UID:69e4d6f744c64
END:VEVENT
END:VCALENDAR