BEGIN:VCALENDAR
VERSION:2.0
PRODID:-//hacksw/handcal//NONSGML v1.0//EN
CALSCALE:GREGORIAN
BEGIN:VEVENT
LOCATION:Vic
DESCRIPTION:
DTSTART:20190920T070000Z
DTEND:20190922T000000Z
SUMMARY:Geometries interactives
URL;VALUE=URI:https://arquitectes.cat/ca/content/geometries-interactives
DTSTAMP:20260419T230238Z
UID:69e542ee57a1b
END:VEVENT
END:VCALENDAR