BEGIN:VCALENDAR
VERSION:2.0
PRODID:-//hacksw/handcal//NONSGML v1.0//EN
CALSCALE:GREGORIAN
BEGIN:VEVENT
LOCATION:Terrassa
DESCRIPTION:
DTSTART:20190830T063000Z
DTEND:20191014T063000Z
SUMMARY:Exposició: "20 arquitectes del segle XX"
URL;VALUE=URI:https://arquitectes.cat/ca/content/exposici%C3%B3-20-arquitectes-del-segle-xx-1
DTSTAMP:20260420T002328Z
UID:69e555e04dee2
END:VEVENT
END:VCALENDAR