BEGIN:VCALENDAR
VERSION:2.0
PRODID:-//hacksw/handcal//NONSGML v1.0//EN
CALSCALE:GREGORIAN
BEGIN:VEVENT
LOCATION:Barcelona
DESCRIPTION:
DTSTART:20190926T063000Z
DTEND:20190926T063000Z
SUMMARY:BREAKFAST OF INTERIOR DESIGN 'ECO-URBAN'
URL;VALUE=URI:https://arquitectes.cat/ca/node/32198
DTSTAMP:20260419T192237Z
UID:69e50f5dd80c0
END:VEVENT
END:VCALENDAR