BEGIN:VCALENDAR
VERSION:2.0
PRODID:-//hacksw/handcal//NONSGML v1.0//EN
CALSCALE:GREGORIAN
BEGIN:VEVENT
LOCATION:Barcelona
DESCRIPTION:
DTSTART:20190709T080000Z
DTEND:20190711T170000Z
SUMMARY:“Pro-eject!”: presentació i exposició dels Treballs de Fi de Grau del curs 2018-2019
URL;VALUE=URI:https://arquitectes.cat/ca/content/%E2%80%9Cpro-eject%E2%80%9D-presentaci%C3%B3-i-exposici%C3%B3-dels-treballs-de-fi-de-grau-del-curs-2018-2019
DTSTAMP:20260425T234509Z
UID:69ed35e5d643d
END:VEVENT
END:VCALENDAR