BEGIN:VCALENDAR
VERSION:2.0
PRODID:-//hacksw/handcal//NONSGML v1.0//EN
CALSCALE:GREGORIAN
BEGIN:VEVENT
LOCATION:Girona
DESCRIPTION:
DTSTART:20190706T070000Z
DTEND:20190706T070000Z
SUMMARY:Visita a les Terres de Girona
URL;VALUE=URI:https://arquitectes.cat/ca/content/visita-les-terres-de-girona
DTSTAMP:20260424T072631Z
UID:69eaff0755f60
END:VEVENT
END:VCALENDAR