BEGIN:VCALENDAR
VERSION:2.0
PRODID:-//hacksw/handcal//NONSGML v1.0//EN
CALSCALE:GREGORIAN
BEGIN:VEVENT
LOCATION:
DESCRIPTION:
DTSTART:20190701T080000Z
DTEND:20190707T160000Z
SUMMARY:5è Seminari d’Arquitectura i Territori
URL;VALUE=URI:https://arquitectes.cat/ca/content/5%C3%A8-seminari-d%E2%80%99arquitectura-i-territori
DTSTAMP:20260419T144713Z
UID:69e4ced166500
END:VEVENT
END:VCALENDAR