BEGIN:VCALENDAR
VERSION:2.0
PRODID:-//hacksw/handcal//NONSGML v1.0//EN
CALSCALE:GREGORIAN
BEGIN:VEVENT
LOCATION:Manresa
DESCRIPTION:
DTSTART:20190621T094500Z
DTEND:20190706T180000Z
SUMMARY:Exposició: "Anàloga"
URL;VALUE=URI:https://arquitectes.cat/ca/content/exposici%C3%B3-an%C3%A0loga
DTSTAMP:20260425T234522Z
UID:69ed35f20974e
END:VEVENT
END:VCALENDAR