BEGIN:VCALENDAR
VERSION:2.0
PRODID:-//hacksw/handcal//NONSGML v1.0//EN
CALSCALE:GREGORIAN
BEGIN:VEVENT
LOCATION:Barcelona
DESCRIPTION:
DTSTART:20190630T100000Z
DTEND:20190630T100000Z
SUMMARY:Visita dinamitzada: Amb els cinc sentits
URL;VALUE=URI:https://arquitectes.cat/ca/content/visita-dinamitzada-amb-els-cinc-sentits
DTSTAMP:20260425T041701Z
UID:69ec241d3e335
END:VEVENT
END:VCALENDAR