BEGIN:VCALENDAR
VERSION:2.0
PRODID:-//hacksw/handcal//NONSGML v1.0//EN
CALSCALE:GREGORIAN
BEGIN:VEVENT
LOCATION:Barcelona
DESCRIPTION:
DTSTART:20190703T090000Z
DTEND:20190703T090000Z
SUMMARY:Taller d'arquitectura: La ciutat imaginada
URL;VALUE=URI:https://arquitectes.cat/ca/content/taller-darquitectura-la-ciutat-imaginada-2
DTSTAMP:20260419T204643Z
UID:69e5231311805
END:VEVENT
END:VCALENDAR