BEGIN:VCALENDAR
VERSION:2.0
PRODID:-//hacksw/handcal//NONSGML v1.0//EN
CALSCALE:GREGORIAN
BEGIN:VEVENT
LOCATION:Barcelona
DESCRIPTION:
DTSTART:20190710T090000Z
DTEND:20190710T090000Z
SUMMARY:Workshop "The imagined city" at Joan Miró's Foundation
URL;VALUE=URI:https://arquitectes.cat/ca/node/32000
DTSTAMP:20260419T181537Z
UID:69e4ffa9d7be5
END:VEVENT
END:VCALENDAR