BEGIN:VCALENDAR
VERSION:2.0
PRODID:-//hacksw/handcal//NONSGML v1.0//EN
CALSCALE:GREGORIAN
BEGIN:VEVENT
LOCATION:Barcelona
DESCRIPTION:
DTSTART:20190727T090000Z
DTEND:20190727T090000Z
SUMMARY:Visita guiada a la Casa Bloc
URL;VALUE=URI:https://arquitectes.cat/ca/content/visita-guiada-la-casa-bloc-93
DTSTAMP:20260419T163422Z
UID:69e4e7eec8a0f
END:VEVENT
END:VCALENDAR