BEGIN:VCALENDAR
VERSION:2.0
PRODID:-//hacksw/handcal//NONSGML v1.0//EN
CALSCALE:GREGORIAN
BEGIN:VEVENT
LOCATION:Barcelona
DESCRIPTION:
DTSTART:20190720T090000Z
DTEND:20190720T090000Z
SUMMARY:Visita guiada a la Casa Bloc
URL;VALUE=URI:https://arquitectes.cat/ca/content/visita-guiada-la-casa-bloc-92
DTSTAMP:20260420T033430Z
UID:69e582a685c29
END:VEVENT
END:VCALENDAR